BEGIN:VCALENDAR
VERSION:2.0
PRODID:-//ChamberMaster//Event Calendar 2.0//EN
METHOD:PUBLISH
X-PUBLISHED-TTL:P3D
REFRESH-INTERVAL:P3D
CALSCALE:GREGORIAN
BEGIN:VEVENT
DTSTART;VALUE=DATE:20180928
DTEND;VALUE=DATE:20180929
TRANSP:TRANSPARENT
X-MICROSOFT-CDO-ALLDAYEVENT:TRUE
SUMMARY:Rockin Bingo @ Walker Legion
DESCRIPTION:Rockin Bingo\n\nCelebrate National Drink Beer Day
X-ALT-DESC;FMTTYPE=text/html:Rockin Bingo<br />\nCelebrate National Drink Beer Day
LOCATION:
UID:e.11.16894
SEQUENCE:3
DTSTAMP:20260420T050959Z
URL:https://leechlake.mobileappview.com/events/details/rockin-bingo-walker-legion-16894
END:VEVENT

END:VCALENDAR
