BEGIN:VCALENDAR
VERSION:2.0
PRODID:-//ChamberMaster//Event Calendar 2.0//EN
METHOD:PUBLISH
X-PUBLISHED-TTL:P3D
REFRESH-INTERVAL:P3D
CALSCALE:GREGORIAN
BEGIN:VEVENT
DTSTART:20180410T223000Z
DTEND:20180411T000000Z
X-MICROSOFT-CDO-ALLDAYEVENT:FALSE
SUMMARY:Rotary Bingo for Books
DESCRIPTION:Sponsored by Rotary
X-ALT-DESC;FMTTYPE=text/html:Sponsored by Rotary
LOCATION:WHA High School
UID:e.11.13407
SEQUENCE:3
DTSTAMP:20260420T123940Z
URL:https://leechlake.mobileappview.com/events/details/rotary-bingo-for-books-13407
END:VEVENT

END:VCALENDAR
