BEGIN:VCALENDAR
VERSION:2.0
PRODID:-//ChamberMaster//Event Calendar 2.0//EN
METHOD:PUBLISH
X-PUBLISHED-TTL:P3D
REFRESH-INTERVAL:P3D
CALSCALE:GREGORIAN
BEGIN:VEVENT
DTSTART:20160917T220000Z
DTEND:20160918T020000Z
X-MICROSOFT-CDO-ALLDAYEVENT:FALSE
SUMMARY:Rotary Extravaganza
DESCRIPTION:Diva's through the Decades\n\na Hilarious Vocal Trio Performing a Musical Tribute to Great American Singers\n\nTickets include Dinner\, Show & Cash Prizes up to $10\,000
X-ALT-DESC;FMTTYPE=text/html:Diva&#39\;s through the Decades<br />\na Hilarious Vocal Trio Performing a Musical Tribute to Great American Singers<br />\nTickets include Dinner\, Show &amp\; Cash Prizes up to $10\,000
LOCATION:Northern Lights Casino Event Center
UID:e.11.5314
SEQUENCE:3
DTSTAMP:20260421T190546Z
URL:https://leechlake.mobileappview.com/events/details/rotary-extravaganza-09-17-2016-5314
END:VEVENT

END:VCALENDAR
