BEGIN:VCALENDAR
VERSION:2.0
PRODID:-//ChamberMaster//Event Calendar 2.0//EN
METHOD:PUBLISH
X-PUBLISHED-TTL:P3D
REFRESH-INTERVAL:P3D
CALSCALE:GREGORIAN
BEGIN:VEVENT
DTSTART;VALUE=DATE:20190607
DTEND;VALUE=DATE:20190609
TRANSP:TRANSPARENT
X-MICROSOFT-CDO-ALLDAYEVENT:TRUE
SUMMARY:Rummage Sale/ Special olympics
DESCRIPTION:Click Here\n\nWalker Hackensack Akeley Nevis Special Olympics\n\nRummage Sale
X-ALT-DESC;FMTTYPE=text/html:<a href="https://chambermaster.blob.core.windows.net/userfiles/UserFiles/chambers/11/File/specialolympics.jpg">Click Here</a><br />\nWalker Hackensack Akeley Nevis Special Olympics<br />\nRummage Sale<br />\n&nbsp\;
LOCATION:St. Agnes Church
UID:e.11.20246
SEQUENCE:3
DTSTAMP:20260419T152030Z
URL:https://leechlake.mobileappview.com/events/details/rummage-sale-special-olympics-20246
END:VEVENT

END:VCALENDAR
