BEGIN:VCALENDAR
VERSION:2.0
PRODID:-//ChamberMaster//Event Calendar 2.0//EN
METHOD:PUBLISH
X-PUBLISHED-TTL:P3D
REFRESH-INTERVAL:P3D
CALSCALE:GREGORIAN
BEGIN:VEVENT
DTSTART:20170426T230000Z
DTEND:20170427T030000Z
X-MICROSOFT-CDO-ALLDAYEVENT:FALSE
SUMMARY:Sands of Silence
DESCRIPTION:You are invited to a symposium on raising awareness awareness and combating sex trafficking and sexual violence. the 2016 documentary will be viewed and introduced by the director Chelo Alvarez-Stehle.
X-ALT-DESC;FMTTYPE=text/html:You are invited to a symposium on raising awareness awareness and combating sex trafficking and sexual violence. the 2016 documentary will be viewed and introduced by the director Chelo Alvarez-Stehle.
LOCATION:Bear Pause theater Hackensack
UID:e.11.9185
SEQUENCE:3
DTSTAMP:20260421T075759Z
URL:https://leechlake.mobileappview.com/events/details/sands-of-silence-9185
END:VEVENT

END:VCALENDAR
