BEGIN:VCALENDAR
VERSION:2.0
PRODID:-//ChamberMaster//Event Calendar 2.0//EN
METHOD:PUBLISH
X-PUBLISHED-TTL:P3D
REFRESH-INTERVAL:P3D
CALSCALE:GREGORIAN
BEGIN:VEVENT
DTSTART:20180922T150000Z
DTEND:20180923T020000Z
X-MICROSOFT-CDO-ALLDAYEVENT:FALSE
SUMMARY:Save Summer Bike and Brew Fest
DESCRIPTION:Annual Bike Ride and Brew Fest.biking\, Live Music and Food
X-ALT-DESC;FMTTYPE=text/html:Annual Bike Ride and Brew Fest.biking\, Live Music and Food
LOCATION:Portage Brewing Com.
UID:e.11.11645
SEQUENCE:3
DTSTAMP:20260420T051132Z
URL:https://leechlake.mobileappview.com/events/details/save-summer-bike-and-brew-fest-11645
END:VEVENT

END:VCALENDAR
