BEGIN:VCALENDAR
VERSION:2.0
PRODID:-//ChamberMaster//Event Calendar 2.0//EN
METHOD:PUBLISH
X-PUBLISHED-TTL:P3D
REFRESH-INTERVAL:P3D
CALSCALE:GREGORIAN
BEGIN:VEVENT
DTSTART:20170923T150000Z
DTEND:20170924T020000Z
X-MICROSOFT-CDO-ALLDAYEVENT:FALSE
SUMMARY:Save Summer Bike Paraty
DESCRIPTION:Bike Ride\, Live Music\, Beer Releases\, food and camping.\n\n23 + 53 Mile Races\n\nFood by Green Scene/ Camping by Camp Bliss\n\nFree Event / All Skill levels ? All Ages\n\nRSVP  @www.goo.gl/qp9pgE
X-ALT-DESC;FMTTYPE=text/html:Bike Ride\, Live Music\, Beer Releases\, food and camping.<br />\n23 + 53 Mile Races<br />\nFood by Green Scene/ Camping by Camp Bliss<br />\nFree Event / All Skill levels ? All Ages<br />\nRSVP &nbsp\;@www.goo.gl/qp9pgE
LOCATION:Walker\, MN Portage Brewing Company
UID:e.11.10597
SEQUENCE:3
DTSTAMP:20260420T234156Z
URL:https://leechlake.mobileappview.com/events/details/save-summer-bike-paraty-10597
END:VEVENT

END:VCALENDAR
