BEGIN:VCALENDAR
VERSION:2.0
PRODID:-//ChamberMaster//Event Calendar 2.0//EN
METHOD:PUBLISH
X-PUBLISHED-TTL:P3D
REFRESH-INTERVAL:P3D
CALSCALE:GREGORIAN
BEGIN:VEVENT
DTSTART:20180220T150000Z
DTEND:20180220T170000Z
X-MICROSOFT-CDO-ALLDAYEVENT:FALSE
SUMMARY:Scorevision open House
DESCRIPTION:My name is Brian Marcus\, Activities Director at Walker-Hackensack-Akeley Schools. I want to invite you to the Open House we're hosting on Tuesday\, February 20th from 9:00 -11:00 am where we'll be showcasing the digital advertising capabilities on our new multi-media jumbotrons. \n\n \n\nWe decided to replace our single function scoreboards with the ScoreVision technology as we're able to leverage the displays for a wide variety of alternative uses outside of athletics including movie nights\, pep rallies\, and graduations   just to name a few. Your sponsorship support reaches well beyond athletics. \n\n \n\nWe'd love to see you at the Open House to show you the options we have available. For details and registration\, please visit the link below.
X-ALT-DESC;FMTTYPE=text/html:<span style="color:black\;"><span style="font-family:times\,serif\;"><span style="font-size:10.5pt\;">My name is Brian Marcus\, Activities Director at Walker-Hackensack-Akeley Schools. I want to invite you to the Open House we&rsquo\;re hosting on Tuesday\, February 20th from 9:00 -11:00 am where we&rsquo\;ll be showcasing the digital advertising capabilities on our new multi-media jumbotrons. </span></span></span><br />\n&nbsp\;<br />\n<span style="color:black\;"><span style="font-family:times\,serif\;"><span style="font-size:10.5pt\;">We decided to replace our single function scoreboards with the ScoreVision technology as we&rsquo\;re able to leverage the displays for a wide variety of alternative uses outside of athletics including movie nights\, pep rallies\, and graduations &ndash\; just to name a few. Your sponsorship support reaches well beyond athletics. </span></span></span><br />\n&nbsp\;<br />\n<span style="color:black\;"><span style="font-family:times\,serif\;"><span style="font-size:10.5pt\;">We&rsquo\;d love to see you at the Open House to show you the options we have available. For details and registration\, please visit the link below.</span></span></span><br />\n<br />\n&nbsp\;
LOCATION:WHA
UID:e.11.13395
SEQUENCE:3
DTSTAMP:20260420T153044Z
URL:https://leechlake.mobileappview.com/events/details/scorevision-open-house-13395
END:VEVENT

END:VCALENDAR
