BEGIN:VCALENDAR
VERSION:2.0
PRODID:-//ChamberMaster//Event Calendar 2.0//EN
METHOD:PUBLISH
X-PUBLISHED-TTL:P3D
REFRESH-INTERVAL:P3D
CALSCALE:GREGORIAN
BEGIN:VEVENT
DTSTART;VALUE=DATE:20180906
DTEND;VALUE=DATE:20180907
TRANSP:TRANSPARENT
X-MICROSOFT-CDO-ALLDAYEVENT:TRUE
SUMMARY:Scrub Sale
DESCRIPTION:Scrub and Shoe sale
X-ALT-DESC;FMTTYPE=text/html:Scrub and Shoe sale
LOCATION:CHI St. Joseph Health & Essentia Health
UID:e.11.16612
SEQUENCE:3
DTSTAMP:20260420T050759Z
URL:https://leechlake.mobileappview.com/events/details/scrub-sale-16612
END:VEVENT

END:VCALENDAR
