BEGIN:VCALENDAR
VERSION:2.0
PRODID:-//ChamberMaster//Event Calendar 2.0//EN
METHOD:PUBLISH
X-PUBLISHED-TTL:P3D
REFRESH-INTERVAL:P3D
CALSCALE:GREGORIAN
BEGIN:VEVENT
DTSTART:20171210T010000Z
DTEND:20171210T030000Z
X-MICROSOFT-CDO-ALLDAYEVENT:FALSE
SUMMARY:Season of Hope Christmas Hope
DESCRIPTION:
X-ALT-DESC;FMTTYPE=text/html:
LOCATION:
UID:e.11.12561
SEQUENCE:3
DTSTAMP:20260420T190022Z
URL:https://leechlake.mobileappview.com/events/details/season-of-hope-christmas-hope-12561
END:VEVENT

END:VCALENDAR
