BEGIN:VCALENDAR
VERSION:2.0
PRODID:-//ChamberMaster//Event Calendar 2.0//EN
METHOD:PUBLISH
X-PUBLISHED-TTL:P3D
REFRESH-INTERVAL:P3D
CALSCALE:GREGORIAN
BEGIN:VEVENT
DTSTART;VALUE=DATE:20190425
DTEND;VALUE=DATE:20190426
TRANSP:TRANSPARENT
X-MICROSOFT-CDO-ALLDAYEVENT:TRUE
SUMMARY:Service of Remembrance
DESCRIPTION:A special ceremony and time of reflection to honor loved ones who have passed away.
X-ALT-DESC;FMTTYPE=text/html:A special ceremony and time of reflection to honor loved ones who have passed away.
LOCATION:Park Villa in Heritage Community
UID:e.11.19801
SEQUENCE:3
DTSTAMP:20260419T182927Z
URL:https://leechlake.mobileappview.com/events/details/service-of-remembrance-19801
END:VEVENT

END:VCALENDAR
