BEGIN:VCALENDAR
VERSION:2.0
PRODID:-//ChamberMaster//Event Calendar 2.0//EN
METHOD:PUBLISH
X-PUBLISHED-TTL:P3D
REFRESH-INTERVAL:P3D
CALSCALE:GREGORIAN
BEGIN:VEVENT
DTSTART:20161112T233000Z
DTEND:20161113T023000Z
X-MICROSOFT-CDO-ALLDAYEVENT:FALSE
SUMMARY:Set the Table PTO Fundraising event
DESCRIPTION:A Ladies night out and table decor showcase of uniquely themed and eye popping table designs.\n\nLive & Silent Auctions\, Door Prizes and games
X-ALT-DESC;FMTTYPE=text/html:A Ladies night out and table decor showcase of uniquely themed and eye popping table designs.<br />\nLive &amp\; Silent Auctions\, Door Prizes and games
LOCATION:Moondance Lazy Moon Bar and Grill
UID:e.11.9073
SEQUENCE:3
DTSTAMP:20260421T154514Z
URL:https://leechlake.mobileappview.com/events/details/set-the-table-pto-fundraising-event-9073
END:VEVENT

END:VCALENDAR
