BEGIN:VCALENDAR
VERSION:2.0
PRODID:-//ChamberMaster//Event Calendar 2.0//EN
METHOD:PUBLISH
X-PUBLISHED-TTL:P3D
REFRESH-INTERVAL:P3D
CALSCALE:GREGORIAN
BEGIN:VEVENT
DTSTART;VALUE=DATE:20171006
DTEND;VALUE=DATE:20171007
TRANSP:TRANSPARENT
X-MICROSOFT-CDO-ALLDAYEVENT:TRUE
SUMMARY:Shingobee Bay's Harvest
DESCRIPTION:A Great Beer\, Wine\, Spirits and Food Pairing Extravaganza
X-ALT-DESC;FMTTYPE=text/html:A Great Beer\, Wine\, Spirits and Food Pairing Extravaganza
LOCATION:Shingobee on the Bay
UID:e.11.12154
SEQUENCE:3
DTSTAMP:20260420T220501Z
URL:https://leechlake.mobileappview.com/events/details/shingobee-bay-s-harvest-12154
END:VEVENT

END:VCALENDAR
