BEGIN:VCALENDAR
VERSION:2.0
PRODID:-//ChamberMaster//Event Calendar 2.0//EN
METHOD:PUBLISH
X-PUBLISHED-TTL:P3D
REFRESH-INTERVAL:P3D
CALSCALE:GREGORIAN
BEGIN:VEVENT
DTSTART;VALUE=DATE:20170914
DTEND;VALUE=DATE:20170917
TRANSP:TRANSPARENT
X-MICROSOFT-CDO-ALLDAYEVENT:TRUE
SUMMARY:Shingobee on the Bay Fall Has it All Celebration
DESCRIPTION:Dj & Ladies Night\n\nFall Has It All Celebration\n\nShingobee in the Bay
X-ALT-DESC;FMTTYPE=text/html:Dj &amp\; Ladies Night<br />\nFall Has It All Celebration<br />\nShingobee in the Bay
LOCATION:Shingobee on the Bay
UID:e.11.10638
SEQUENCE:3
DTSTAMP:20260420T234055Z
URL:https://leechlake.mobileappview.com/events/details/shingobee-on-the-bay-fall-has-it-all-celebration-10638
END:VEVENT

END:VCALENDAR
