BEGIN:VCALENDAR
VERSION:2.0
PRODID:-//ChamberMaster//Event Calendar 2.0//EN
METHOD:PUBLISH
X-PUBLISHED-TTL:P3D
REFRESH-INTERVAL:P3D
CALSCALE:GREGORIAN
BEGIN:VEVENT
DTSTART:20160625T180000Z
DTEND:20160625T210000Z
X-MICROSOFT-CDO-ALLDAYEVENT:FALSE
SUMMARY:Showy Lady Slipper Event Program
DESCRIPTION:Learn about  Minnesota's state flower\, and other northern Minnesota orchids with area Beach Visitors Center.
X-ALT-DESC;FMTTYPE=text/html:Learn about &nbsp\;Minnesota&#39\;s state flower\, and other northern Minnesota orchids with area Beach Visitors Center.
LOCATION:Norway Beach Visitor Center
UID:e.11.8828
SEQUENCE:3
DTSTAMP:20260421T235556Z
URL:https://leechlake.mobileappview.com/events/details/showy-lady-slipper-event-program-06-25-2016-8828
END:VEVENT

END:VCALENDAR
