BEGIN:VCALENDAR
VERSION:2.0
PRODID:-//ChamberMaster//Event Calendar 2.0//EN
METHOD:PUBLISH
X-PUBLISHED-TTL:P3D
REFRESH-INTERVAL:P3D
CALSCALE:GREGORIAN
BEGIN:VEVENT
DTSTART:20171113T230000Z
DTEND:20171114T020000Z
X-MICROSOFT-CDO-ALLDAYEVENT:FALSE
SUMMARY:Signs of the Season - Stenciled Sign Project
DESCRIPTION:Acrylic Stencil/painting on wood project
X-ALT-DESC;FMTTYPE=text/html:Acrylic Stencil/painting on wood project
LOCATION:WHA art room
UID:e.11.12489
SEQUENCE:3
DTSTAMP:20260420T203533Z
URL:https://leechlake.mobileappview.com/events/details/signs-of-the-season-stenciled-sign-project-12489
END:VEVENT

END:VCALENDAR
