BEGIN:VCALENDAR
VERSION:2.0
PRODID:-//ChamberMaster//Event Calendar 2.0//EN
METHOD:PUBLISH
X-PUBLISHED-TTL:P3D
REFRESH-INTERVAL:P3D
CALSCALE:GREGORIAN
BEGIN:VEVENT
DTSTART:20180724T000000Z
DTEND:20180724T020000Z
X-MICROSOFT-CDO-ALLDAYEVENT:FALSE
SUMMARY:Sing a Long with Local Songsters
DESCRIPTION:
X-ALT-DESC;FMTTYPE=text/html:
LOCATION:
UID:e.11.16544
SEQUENCE:3
DTSTAMP:20260420T075116Z
URL:https://leechlake.mobileappview.com/events/details/sing-a-long-with-local-songsters-16544
END:VEVENT

END:VCALENDAR
