BEGIN:VCALENDAR
VERSION:2.0
PRODID:-//ChamberMaster//Event Calendar 2.0//EN
METHOD:PUBLISH
X-PUBLISHED-TTL:P3D
REFRESH-INTERVAL:P3D
CALSCALE:GREGORIAN
BEGIN:VEVENT
DTSTART;VALUE=DATE:20181207
DTEND;VALUE=DATE:20181209
TRANSP:TRANSPARENT
X-MICROSOFT-CDO-ALLDAYEVENT:TRUE
SUMMARY:Sing We now of Christmas
DESCRIPTION:Click Here for More Information
X-ALT-DESC;FMTTYPE=text/html:<a href="https://chambermaster.blob.core.windows.net/userfiles/UserFiles/chambers/11/File/Otto.jpg">Click Here for More Information</a>
LOCATION:
UID:e.11.18021
SEQUENCE:3
DTSTAMP:20260420T003252Z
URL:https://leechlake.mobileappview.com/events/details/sing-we-now-of-christmas-18021
END:VEVENT

END:VCALENDAR
