BEGIN:VCALENDAR
VERSION:2.0
PRODID:-//ChamberMaster//Event Calendar 2.0//EN
METHOD:PUBLISH
X-PUBLISHED-TTL:P3D
REFRESH-INTERVAL:P3D
CALSCALE:GREGORIAN
BEGIN:VEVENT
DTSTART;VALUE=DATE:20170727
DTEND;VALUE=DATE:20170730
TRANSP:TRANSPARENT
X-MICROSOFT-CDO-ALLDAYEVENT:TRUE
SUMMARY:Slingshot Tent Sale
DESCRIPTION:Sling Shot Tent Sale
X-ALT-DESC;FMTTYPE=text/html:Sling Shot Tent Sale
LOCATION:Calvary Church Walker\, MN
UID:e.11.10556
SEQUENCE:3
DTSTAMP:20260421T025957Z
URL:https://leechlake.mobileappview.com/events/details/slingshot-tent-sale-10556
END:VEVENT

END:VCALENDAR
