BEGIN:VCALENDAR
VERSION:2.0
PRODID:-//ChamberMaster//Event Calendar 2.0//EN
METHOD:PUBLISH
X-PUBLISHED-TTL:P3D
REFRESH-INTERVAL:P3D
CALSCALE:GREGORIAN
BEGIN:VEVENT
DTSTART;VALUE=DATE:20161126
DTEND;VALUE=DATE:20161127
TRANSP:TRANSPARENT
X-MICROSOFT-CDO-ALLDAYEVENT:TRUE
SUMMARY:Small Business Saturday
DESCRIPTION:Shop Small Business Saturday\n\nRestaurants and Shops will have specials for Small Business Saturday
X-ALT-DESC;FMTTYPE=text/html:Shop Small Business Saturday<br />\nRestaurants and Shops will have specials for Small Business Saturday
LOCATION:Walker\, MN
UID:e.11.9079
SEQUENCE:3
DTSTAMP:20260421T154541Z
URL:https://leechlake.mobileappview.com/events/details/small-business-saturday-9079
END:VEVENT

END:VCALENDAR
