BEGIN:VCALENDAR
VERSION:2.0
PRODID:-//ChamberMaster//Event Calendar 2.0//EN
METHOD:PUBLISH
X-PUBLISHED-TTL:P3D
REFRESH-INTERVAL:P3D
CALSCALE:GREGORIAN
BEGIN:VEVENT
DTSTART:20160828T220000Z
DTEND:20160828T233000Z
X-MICROSOFT-CDO-ALLDAYEVENT:FALSE
SUMMARY:Smoked Pork Chop Dinner - Community Church
DESCRIPTION:Smoked Pork Chop Dinner
X-ALT-DESC;FMTTYPE=text/html:Smoked Pork Chop Dinner
LOCATION:Community Church of Walker
UID:e.11.8831
SEQUENCE:3
DTSTAMP:20260421T205605Z
URL:https://leechlake.mobileappview.com/events/details/smoked-pork-chop-dinner-community-church-08-28-2016-8831
END:VEVENT

END:VCALENDAR
