BEGIN:VCALENDAR
VERSION:2.0
PRODID:-//ChamberMaster//Event Calendar 2.0//EN
METHOD:PUBLISH
X-PUBLISHED-TTL:P3D
REFRESH-INTERVAL:P3D
CALSCALE:GREGORIAN
BEGIN:VEVENT
DTSTART:20180917T230000Z
DTEND:20180918T010000Z
X-MICROSOFT-CDO-ALLDAYEVENT:FALSE
SUMMARY:So you want to raise Chickens?
DESCRIPTION:
X-ALT-DESC;FMTTYPE=text/html:
LOCATION:
UID:e.11.16866
SEQUENCE:3
DTSTAMP:20260420T051213Z
URL:https://leechlake.mobileappview.com/events/details/so-you-want-to-raise-chickens-16866
END:VEVENT

END:VCALENDAR
