BEGIN:VCALENDAR
VERSION:2.0
PRODID:-//ChamberMaster//Event Calendar 2.0//EN
METHOD:PUBLISH
X-PUBLISHED-TTL:P3D
REFRESH-INTERVAL:P3D
CALSCALE:GREGORIAN
BEGIN:VEVENT
DTSTART:20170520T160000Z
DTEND:20170520T200000Z
X-MICROSOFT-CDO-ALLDAYEVENT:FALSE
SUMMARY:Sons of the American Legion Fundraiser
DESCRIPTION:Join us at Anderson's Grand Vu Lodge for a fundraiser for the Walker\n\n"Sons of the the American Legion"\n\nto be donated to the WHA Golf Team
X-ALT-DESC;FMTTYPE=text/html:Join us at Anderson&#39\;s Grand Vu Lodge for a fundraiser for the Walker<br />\n&quot\;Sons of the the American Legion&quot\;<br />\nto be donated to the WHA Golf Team
LOCATION:Grand Vu Lodge
UID:e.11.9467
SEQUENCE:3
DTSTAMP:20260421T061958Z
URL:https://leechlake.mobileappview.com/events/details/sons-of-the-american-legion-fundraiser-9467
END:VEVENT

END:VCALENDAR
