BEGIN:VCALENDAR
VERSION:2.0
PRODID:-//ChamberMaster//Event Calendar 2.0//EN
METHOD:PUBLISH
X-PUBLISHED-TTL:P3D
REFRESH-INTERVAL:P3D
CALSCALE:GREGORIAN
BEGIN:VEVENT
DTSTART:20160617T170000Z
DTEND:20160618T170000Z
X-MICROSOFT-CDO-ALLDAYEVENT:FALSE
SUMMARY:Special Olympic Rummage Sale
DESCRIPTION:Special Olympic Rummage Sale
X-ALT-DESC;FMTTYPE=text/html:Special Olympic Rummage Sale
LOCATION:St. Agnes Walker\, MN
UID:e.11.8364
SEQUENCE:3
DTSTAMP:20260421T235822Z
URL:https://leechlake.mobileappview.com/events/details/special-olympic-rummage-sale-06-17-2016-8364
END:VEVENT

END:VCALENDAR
