BEGIN:VCALENDAR
VERSION:2.0
PRODID:-//ChamberMaster//Event Calendar 2.0//EN
METHOD:PUBLISH
X-PUBLISHED-TTL:P3D
REFRESH-INTERVAL:P3D
CALSCALE:GREGORIAN
BEGIN:VEVENT
DTSTART:20180310T230000Z
DTEND:20180311T010000Z
X-MICROSOFT-CDO-ALLDAYEVENT:FALSE
SUMMARY:Spencer Ross American Legion Birthday Dinner
DESCRIPTION:For members only!
X-ALT-DESC;FMTTYPE=text/html:For members only!<br />\n&nbsp\;
LOCATION:Spencer Ross American Legion Club
UID:e.11.12165
SEQUENCE:3
DTSTAMP:20260420T140235Z
URL:https://leechlake.mobileappview.com/events/details/spencer-ross-american-legion-birthday-dinner-12165
END:VEVENT

END:VCALENDAR
