BEGIN:VCALENDAR
VERSION:2.0
PRODID:-//ChamberMaster//Event Calendar 2.0//EN
METHOD:PUBLISH
X-PUBLISHED-TTL:P3D
REFRESH-INTERVAL:P3D
CALSCALE:GREGORIAN
BEGIN:VEVENT
DTSTART;VALUE=DATE:20170529
DTEND;VALUE=DATE:20170530
TRANSP:TRANSPARENT
X-MICROSOFT-CDO-ALLDAYEVENT:TRUE
SUMMARY:Spencer Ross American Legion Memorial Day Service
DESCRIPTION:
X-ALT-DESC;FMTTYPE=text/html:
LOCATION:
UID:e.11.5180
SEQUENCE:3
DTSTAMP:20260421T062100Z
URL:https://leechlake.mobileappview.com/events/details/spencer-ross-american-legion-memorial-day-service-05-30-2016-5180
END:VEVENT

END:VCALENDAR
