BEGIN:VCALENDAR
VERSION:2.0
PRODID:-//ChamberMaster//Event Calendar 2.0//EN
METHOD:PUBLISH
X-PUBLISHED-TTL:P3D
REFRESH-INTERVAL:P3D
CALSCALE:GREGORIAN
BEGIN:VEVENT
DTSTART:20180528T140000Z
DTEND:20180528T150000Z
X-MICROSOFT-CDO-ALLDAYEVENT:FALSE
SUMMARY:Spencer Ross American Legion Memorial Day Service
DESCRIPTION:
X-ALT-DESC;FMTTYPE=text/html:
LOCATION:Basement of the Spencer Ross American Legion\, Walker\, MN
UID:e.11.12169
SEQUENCE:3
DTSTAMP:20260420T110025Z
URL:https://leechlake.mobileappview.com/events/details/spencer-ross-american-legion-memorial-day-service-12169
END:VEVENT

END:VCALENDAR
