BEGIN:VCALENDAR
VERSION:2.0
PRODID:-//ChamberMaster//Event Calendar 2.0//EN
METHOD:PUBLISH
X-PUBLISHED-TTL:P3D
REFRESH-INTERVAL:P3D
CALSCALE:GREGORIAN
BEGIN:VEVENT
DTSTART:20180214T000000Z
DTEND:20180214T020000Z
X-MICROSOFT-CDO-ALLDAYEVENT:FALSE
SUMMARY:Spices and Sauces (3 sessions) Session 1
DESCRIPTION:Three classes 2/13 - 2/20 - 2/22\n\nSession 1 Herbs & spices\n\nSession 2 Making marinades\, gravies\, dressings and sauces\n\nSession 3 Putting it all together using what you've made.
X-ALT-DESC;FMTTYPE=text/html:Three classes 2/13 - 2/20 - 2/22<br />\nSession 1 Herbs &amp\; spices<br />\nSession 2 Making marinades\, gravies\, dressings and sauces<br />\nSession 3 Putting it all together using what you&#39\;ve made.
LOCATION:WHA Schools
UID:e.11.12971
SEQUENCE:3
DTSTAMP:20260420T154721Z
URL:https://leechlake.mobileappview.com/events/details/spices-and-sauces-3-sessions-session-1-12971
END:VEVENT

END:VCALENDAR
