BEGIN:VCALENDAR
VERSION:2.0
PRODID:-//ChamberMaster//Event Calendar 2.0//EN
METHOD:PUBLISH
X-PUBLISHED-TTL:P3D
REFRESH-INTERVAL:P3D
CALSCALE:GREGORIAN
BEGIN:VEVENT
DTSTART;VALUE=DATE:20170722
DTEND;VALUE=DATE:20170723
TRANSP:TRANSPARENT
X-MICROSOFT-CDO-ALLDAYEVENT:TRUE
SUMMARY:Spider Lake to County Road 4 HIke
DESCRIPTION:7.8 miles\n\nMeet at NCT/Spider Lake Forest Rd\,\n\n3.3 miles south of HWY 200/71 at 9:00 am
X-ALT-DESC;FMTTYPE=text/html:7.8 miles<br />\nMeet at NCT/Spider Lake Forest Rd\,<br />\n3.3 miles south of HWY 200/71 at 9:00 am
LOCATION:
UID:e.11.9097
SEQUENCE:3
DTSTAMP:20260421T025957Z
URL:https://leechlake.mobileappview.com/events/details/spider-lake-to-county-road-4-hike-9097
END:VEVENT

END:VCALENDAR
