BEGIN:VCALENDAR
VERSION:2.0
PRODID:-//ChamberMaster//Event Calendar 2.0//EN
METHOD:PUBLISH
X-PUBLISHED-TTL:P3D
REFRESH-INTERVAL:P3D
CALSCALE:GREGORIAN
BEGIN:VEVENT
DTSTART:20190518T150000Z
DTEND:20190518T170000Z
X-MICROSOFT-CDO-ALLDAYEVENT:FALSE
SUMMARY:Spring Bike Fling
DESCRIPTION:Click Here\n\n2 Mile Family Ride\n\n26 Mile Ride\n\n44 Mile Ride
X-ALT-DESC;FMTTYPE=text/html:<a href="https://chambermaster.blob.core.windows.net/userfiles/UserFiles/chambers/11/File/bikeflingregistration.jpg">Click Here</a><br />\n2 Mile Family Ride<br />\n26 Mile Ride<br />\n44 Mile Ride&nbsp\;&nbsp\;&nbsp\;&nbsp\;<br />\n&nbsp\;
LOCATION:Starts in Walker City Park
UID:e.11.18860
SEQUENCE:3
DTSTAMP:20260419T164353Z
URL:https://leechlake.mobileappview.com/events/details/spring-bike-fling-18860
END:VEVENT

END:VCALENDAR
