BEGIN:VCALENDAR
VERSION:2.0
PRODID:-//ChamberMaster//Event Calendar 2.0//EN
METHOD:PUBLISH
X-PUBLISHED-TTL:P3D
REFRESH-INTERVAL:P3D
CALSCALE:GREGORIAN
BEGIN:VEVENT
DTSTART:20190402T203000Z
DTEND:20190402T230000Z
X-MICROSOFT-CDO-ALLDAYEVENT:FALSE
SUMMARY:Spring Job Fair
DESCRIPTION:More than 24 Businesses owners and Managers seeking to hire NOW and in the FUTURE!\n\nClick Here
X-ALT-DESC;FMTTYPE=text/html:More than 24 Businesses owners and Managers seeking to hire NOW and in the FUTURE!<br />\n<a href="https://chambermaster.blob.core.windows.net/userfiles/UserFiles/chambers/11/File/jobfair.jpg">Click Here</a>
LOCATION:WHA School
UID:e.11.19731
SEQUENCE:3
DTSTAMP:20260419T181813Z
URL:https://leechlake.mobileappview.com/events/details/spring-job-fair-19731
END:VEVENT

END:VCALENDAR
