BEGIN:VCALENDAR
VERSION:2.0
PRODID:-//ChamberMaster//Event Calendar 2.0//EN
METHOD:PUBLISH
X-PUBLISHED-TTL:P3D
REFRESH-INTERVAL:P3D
CALSCALE:GREGORIAN
BEGIN:VEVENT
DTSTART:20180517T180000Z
DTEND:20180518T000000Z
X-MICROSOFT-CDO-ALLDAYEVENT:FALSE
SUMMARY:Spring Musical-Immanual Lutheran School
DESCRIPTION:
X-ALT-DESC;FMTTYPE=text/html:
LOCATION:Immanual Lutheran Church
UID:e.11.12180
SEQUENCE:3
DTSTAMP:20260420T105512Z
URL:https://leechlake.mobileappview.com/events/details/spring-musical-immanual-lutheran-school-12180
END:VEVENT

END:VCALENDAR
