BEGIN:VCALENDAR
VERSION:2.0
PRODID:-//ChamberMaster//Event Calendar 2.0//EN
METHOD:PUBLISH
X-PUBLISHED-TTL:P3D
REFRESH-INTERVAL:P3D
CALSCALE:GREGORIAN
BEGIN:VEVENT
DTSTART;VALUE=DATE:20160519
DTEND;VALUE=DATE:20160520
TRANSP:TRANSPARENT
X-MICROSOFT-CDO-ALLDAYEVENT:TRUE
SUMMARY:Spring Musical-Immanuel Lutheran Church
DESCRIPTION:1& 7 pm
X-ALT-DESC;FMTTYPE=text/html:1&amp\; 7 pm
LOCATION:
UID:e.11.5205
SEQUENCE:3
DTSTAMP:20260422T014720Z
URL:https://leechlake.mobileappview.com/events/details/spring-musical-immanuel-lutheran-church-05-19-2016-5205
END:VEVENT

END:VCALENDAR
