BEGIN:VCALENDAR
VERSION:2.0
PRODID:-//ChamberMaster//Event Calendar 2.0//EN
METHOD:PUBLISH
X-PUBLISHED-TTL:P3D
REFRESH-INTERVAL:P3D
CALSCALE:GREGORIAN
BEGIN:VEVENT
DTSTART;VALUE=DATE:20160122
DTEND;VALUE=DATE:20160125
TRANSP:TRANSPARENT
X-MICROSOFT-CDO-ALLDAYEVENT:TRUE
SUMMARY:Squirt C Tournament
DESCRIPTION:Walker Youth Hockey
X-ALT-DESC;FMTTYPE=text/html:Walker Youth Hockey
LOCATION:
UID:e.11.5139
SEQUENCE:3
DTSTAMP:20260422T080454Z
URL:https://leechlake.mobileappview.com/events/details/squirt-c-tournament-01-22-2016-5139
END:VEVENT

END:VCALENDAR
