BEGIN:VCALENDAR
VERSION:2.0
PRODID:-//ChamberMaster//Event Calendar 2.0//EN
METHOD:PUBLISH
X-PUBLISHED-TTL:P3D
REFRESH-INTERVAL:P3D
CALSCALE:GREGORIAN
BEGIN:VEVENT
DTSTART:20160806T223000Z
DTEND:20160807T000000Z
X-MICROSOFT-CDO-ALLDAYEVENT:FALSE
SUMMARY:St. Agnes 17th Annual Auction\, Dinner\, Silent & live Aution
DESCRIPTION:St. Agnes 17th Annual Auction\n\nDinner\, Raffles\, Silent & Live Auctions and Prizes\n\nticket includes pulled pork or pulled chicken sandwich\, homemade sides of coleslaw and beans.  Homemade pies for dessert and beverages
X-ALT-DESC;FMTTYPE=text/html:St. Agnes 17th Annual Auction<br />\nDinner\, Raffles\, Silent &amp\; Live Auctions and Prizes<br />\nticket includes pulled pork or pulled chicken sandwich\, homemade sides of coleslaw and beans. &nbsp\;Homemade pies for dessert and beverages
LOCATION:St. Agnes Social Hall
UID:e.11.8837
SEQUENCE:3
DTSTAMP:20260421T205344Z
URL:https://leechlake.mobileappview.com/events/details/st-agnes-17th-annual-auction-dinner-silent-live-aution-08-06-2016-8837
END:VEVENT

END:VCALENDAR
