BEGIN:VCALENDAR
VERSION:2.0
PRODID:-//ChamberMaster//Event Calendar 2.0//EN
METHOD:PUBLISH
X-PUBLISHED-TTL:P3D
REFRESH-INTERVAL:P3D
CALSCALE:GREGORIAN
BEGIN:VEVENT
DTSTART:20170812T220000Z
DTEND:20170813T020000Z
X-MICROSOFT-CDO-ALLDAYEVENT:FALSE
SUMMARY:St. Agnes Annual Auction
DESCRIPTION:Dinner\, Raffles\, Silent Auction and Prizes!
X-ALT-DESC;FMTTYPE=text/html:Dinner\, Raffles\, Silent Auction and Prizes!
LOCATION:St. Agnes Social Hall in Walker
UID:e.11.10577
SEQUENCE:3
DTSTAMP:20260421T011339Z
URL:https://leechlake.mobileappview.com/events/details/st-agnes-annual-auction-10577
END:VEVENT

END:VCALENDAR
