BEGIN:VCALENDAR
VERSION:2.0
PRODID:-//ChamberMaster//Event Calendar 2.0//EN
METHOD:PUBLISH
X-PUBLISHED-TTL:P3D
REFRESH-INTERVAL:P3D
CALSCALE:GREGORIAN
BEGIN:VEVENT
DTSTART:20170317T160000Z
DTEND:20170318T020000Z
X-MICROSOFT-CDO-ALLDAYEVENT:FALSE
SUMMARY:St. Patrick's Day at BlueWater Lodge
DESCRIPTION:Corned Beef & Cabbage and other St. Paddy's Day Specials\n\n\n\nCome in and join us for $2 off any food item or $1 off any beverage
X-ALT-DESC;FMTTYPE=text/html:Corned Beef &amp\; Cabbage and other St. Paddy&#39\;s Day Specials<br />\n<br />\nCome in and join us for $2 off any food item or $1 off any beverage
LOCATION:BlueWater Lodge located 3 miles South of Walker at 7051 Wintergreen Trail
UID:e.11.9240
SEQUENCE:3
DTSTAMP:20260421T092648Z
URL:https://leechlake.mobileappview.com/events/details/st-patrick-s-day-at-bluewater-lodge-9240
END:VEVENT

END:VCALENDAR
