BEGIN:VCALENDAR
VERSION:2.0
PRODID:-//ChamberMaster//Event Calendar 2.0//EN
METHOD:PUBLISH
X-PUBLISHED-TTL:P3D
REFRESH-INTERVAL:P3D
CALSCALE:GREGORIAN
BEGIN:VEVENT
DTSTART:20160317T230000Z
DTEND:20160318T040000Z
X-MICROSOFT-CDO-ALLDAYEVENT:FALSE
SUMMARY:St. Patrick's Day Party @ Cafe Zona Rosa's
DESCRIPTION:Cafe Zona Rosa's Saint Patrick's Day Party\n\nFinniegans Taps $3.00\n\nFood and Drink Specials
X-ALT-DESC;FMTTYPE=text/html:Cafe Zona Rosa&#39\;s Saint Patrick&#39\;s Day Party<br />\nFinniegans Taps $3.00<br />\nFood and Drink Specials
LOCATION:Cafe Zona Rosa Walker\, MN
UID:e.11.8305
SEQUENCE:3
DTSTAMP:20260422T045742Z
URL:https://leechlake.mobileappview.com/events/details/st-patrick-s-day-party-cafe-zona-rosa-s-03-17-2016-8305
END:VEVENT

END:VCALENDAR
