BEGIN:VCALENDAR
VERSION:2.0
PRODID:-//ChamberMaster//Event Calendar 2.0//EN
METHOD:PUBLISH
X-PUBLISHED-TTL:P3D
REFRESH-INTERVAL:P3D
CALSCALE:GREGORIAN
BEGIN:VEVENT
DTSTART:20170318T000000Z
DTEND:20170318T040000Z
X-MICROSOFT-CDO-ALLDAYEVENT:FALSE
SUMMARY:St. Patrick's Day Scavenger Hunt at the Zona Rosa
DESCRIPTION:Scavenger Hunt\n\nFood and Drink Specials
X-ALT-DESC;FMTTYPE=text/html:Scavenger Hunt<br />\nFood and Drink Specials&nbsp\;&nbsp\;&nbsp\;&nbsp\;
LOCATION:Cafe Zona Rosa
UID:e.11.9242
SEQUENCE:3
DTSTAMP:20260421T094406Z
URL:https://leechlake.mobileappview.com/events/details/st-patrick-s-day-scavenger-hunt-at-the-zona-rosa-9242
END:VEVENT

END:VCALENDAR
