BEGIN:VCALENDAR
VERSION:2.0
PRODID:-//ChamberMaster//Event Calendar 2.0//EN
METHOD:PUBLISH
X-PUBLISHED-TTL:P3D
REFRESH-INTERVAL:P3D
CALSCALE:GREGORIAN
BEGIN:VEVENT
DTSTART:20160412T210000Z
DTEND:20160412T230000Z
X-MICROSOFT-CDO-ALLDAYEVENT:FALSE
SUMMARY:Summer Rec Program Sign up Night
DESCRIPTION:
X-ALT-DESC;FMTTYPE=text/html:
LOCATION:WHA
UID:e.11.8322
SEQUENCE:3
DTSTAMP:20260422T031103Z
URL:https://leechlake.mobileappview.com/events/details/summer-rec-program-sign-up-night-04-12-2016-8322
END:VEVENT

END:VCALENDAR
