BEGIN:VCALENDAR
VERSION:2.0
PRODID:-//ChamberMaster//Event Calendar 2.0//EN
METHOD:PUBLISH
X-PUBLISHED-TTL:P3D
REFRESH-INTERVAL:P3D
CALSCALE:GREGORIAN
BEGIN:VEVENT
DTSTART:20180826T160000Z
DTEND:20180826T180000Z
X-MICROSOFT-CDO-ALLDAYEVENT:FALSE
SUMMARY:Summers End Food Fest-Immanuel Lutheran
DESCRIPTION:11:00 am-1:00 pm  $6.00 Children/$12.00 Adults
X-ALT-DESC;FMTTYPE=text/html:11:00&nbsp\;am-1:00 pm &nbsp\;$6.00 Children/$12.00 Adults
LOCATION:Immanuel Lutheran Church
UID:e.11.5208
SEQUENCE:3
DTSTAMP:20260420T062423Z
URL:https://leechlake.mobileappview.com/events/details/summers-end-food-fest-immanuel-lutheran-08-28-2016-5208
END:VEVENT

END:VCALENDAR
