BEGIN:VCALENDAR
VERSION:2.0
PRODID:-//ChamberMaster//Event Calendar 2.0//EN
METHOD:PUBLISH
X-PUBLISHED-TTL:P3D
REFRESH-INTERVAL:P3D
CALSCALE:GREGORIAN
BEGIN:VEVENT
DTSTART:20180202T180000Z
DTEND:20180203T220000Z
X-MICROSOFT-CDO-ALLDAYEVENT:FALSE
SUMMARY:Supper in my Bowl
DESCRIPTION:super One Foods "Supper in my Bowl" donation drive for\n\nPaw and Claws Rescue & Resort
X-ALT-DESC;FMTTYPE=text/html:super One Foods &quot\;Supper in my Bowl&quot\; donation drive for<br />\nPaw and Claws Rescue &amp\; Resort
LOCATION:Super One Foods Walker MN
UID:e.11.12802
SEQUENCE:3
DTSTAMP:20260420T153803Z
URL:https://leechlake.mobileappview.com/events/details/supper-in-my-bowl-12802
END:VEVENT

END:VCALENDAR
