BEGIN:VCALENDAR
VERSION:2.0
PRODID:-//ChamberMaster//Event Calendar 2.0//EN
METHOD:PUBLISH
X-PUBLISHED-TTL:P3D
REFRESH-INTERVAL:P3D
CALSCALE:GREGORIAN
BEGIN:VEVENT
DTSTART:20160709T180000Z
DTEND:20160709T220000Z
X-MICROSOFT-CDO-ALLDAYEVENT:FALSE
SUMMARY:Sweetheart Days Car Show
DESCRIPTION:Show and Shine your Classic\, Custom or Antique Vehicle
X-ALT-DESC;FMTTYPE=text/html:Show and Shine your Classic\, Custom or Antique Vehicle
LOCATION:Birchwood Char House Hackensack\, MN
UID:e.11.8401
SEQUENCE:3
DTSTAMP:20260421T223756Z
URL:https://leechlake.mobileappview.com/events/details/sweetheart-days-car-show-07-09-2016-8401
END:VEVENT

END:VCALENDAR
