BEGIN:VCALENDAR
VERSION:2.0
PRODID:-//ChamberMaster//Event Calendar 2.0//EN
METHOD:PUBLISH
X-PUBLISHED-TTL:P3D
REFRESH-INTERVAL:P3D
CALSCALE:GREGORIAN
BEGIN:VEVENT
DTSTART:20190423T213000Z
DTEND:20190423T220000Z
X-MICROSOFT-CDO-ALLDAYEVENT:FALSE
SUMMARY:Swimming Lessons
DESCRIPTION:In this four session course\, Lacey Riopelle\, a certified Red Cross Water Safety Instructor and Lifeguard will help your child gain confidence in the water.
X-ALT-DESC;FMTTYPE=text/html:In this four session course\, Lacey Riopelle\, a certified Red Cross Water Safety Instructor and Lifeguard will help your child gain confidence in the water.
LOCATION:Country Inn Walker Pool
UID:e.11.19533
SEQUENCE:3
DTSTAMP:20260419T182738Z
URL:https://leechlake.mobileappview.com/events/details/swimming-lessons-04-23-2019-19533
END:VEVENT

END:VCALENDAR
