BEGIN:VCALENDAR
VERSION:2.0
PRODID:-//ChamberMaster//Event Calendar 2.0//EN
METHOD:PUBLISH
X-PUBLISHED-TTL:P3D
REFRESH-INTERVAL:P3D
CALSCALE:GREGORIAN
BEGIN:VEVENT
DTSTART;VALUE=DATE:20190608
DTEND;VALUE=DATE:20190609
TRANSP:TRANSPARENT
X-MICROSOFT-CDO-ALLDAYEVENT:TRUE
SUMMARY:Take a Vet Fishing Tournament
DESCRIPTION:Click Here\n\n6th Annual Take a Vet Fishing Tournament
X-ALT-DESC;FMTTYPE=text/html:<a href="https://chambermaster.blob.core.windows.net/userfiles/UserFiles/chambers/11/File/trappers.jpg">Click Here</a><br />\n6th Annual Take a Vet Fishing Tournament
LOCATION:Trappers Landing Lodge on Leech Lake
UID:e.11.20261
SEQUENCE:3
DTSTAMP:20260419T152608Z
URL:https://leechlake.mobileappview.com/events/details/take-a-vet-fishing-tournament-20261
END:VEVENT

END:VCALENDAR
