BEGIN:VCALENDAR
VERSION:2.0
PRODID:-//ChamberMaster//Event Calendar 2.0//EN
METHOD:PUBLISH
X-PUBLISHED-TTL:P3D
REFRESH-INTERVAL:P3D
CALSCALE:GREGORIAN
BEGIN:VEVENT
DTSTART;VALUE=DATE:20170624
DTEND;VALUE=DATE:20170625
TRANSP:TRANSPARENT
X-MICROSOFT-CDO-ALLDAYEVENT:TRUE
SUMMARY:Take a Vet Fishing Tournament
DESCRIPTION:Attention Veterans\n\nFree Day of Fishing & Dinner
X-ALT-DESC;FMTTYPE=text/html:Attention Veterans<br />\nFree Day of Fishing &amp\; Dinner
LOCATION:Trappers Landing Lodge on Leech Lake 1812 Merit Road NW Walker\, MN
UID:e.11.9547
SEQUENCE:3
DTSTAMP:20260421T043703Z
URL:https://leechlake.mobileappview.com/events/details/take-a-vet-fishing-tournament-9547
END:VEVENT

END:VCALENDAR
