BEGIN:VCALENDAR
VERSION:2.0
PRODID:-//ChamberMaster//Event Calendar 2.0//EN
METHOD:PUBLISH
X-PUBLISHED-TTL:P3D
REFRESH-INTERVAL:P3D
CALSCALE:GREGORIAN
BEGIN:VEVENT
DTSTART;VALUE=DATE:20181019
DTEND;VALUE=DATE:20181022
TRANSP:TRANSPARENT
X-MICROSOFT-CDO-ALLDAYEVENT:TRUE
SUMMARY:Tattoo Convention
DESCRIPTION:Tattoo you Minnesota presents Tattoo
X-ALT-DESC;FMTTYPE=text/html:Tattoo you Minnesota presents Tattoo
LOCATION:Northern Lights Casino & Event Center
UID:e.11.16859
SEQUENCE:3
DTSTAMP:20260420T034411Z
URL:https://leechlake.mobileappview.com/events/details/tattoo-convention-16859
END:VEVENT

END:VCALENDAR
