BEGIN:VCALENDAR
VERSION:2.0
PRODID:-//ChamberMaster//Event Calendar 2.0//EN
METHOD:PUBLISH
X-PUBLISHED-TTL:P3D
REFRESH-INTERVAL:P3D
CALSCALE:GREGORIAN
BEGIN:VEVENT
DTSTART:20160719T223000Z
DTEND:20160719T230000Z
X-MICROSOFT-CDO-ALLDAYEVENT:FALSE
SUMMARY:Tee Party Kickoff - Tianna Country Club
DESCRIPTION:Don't be shy\, grab a club and try!!\n\nGolf Guidance from our outstanding instructors that will develop and or refresh your skills as well as your short games\, drives\, fairway shots\, chipping and putting. How much more could one ask for?  Bring your own set of clubs or use ours.
X-ALT-DESC;FMTTYPE=text/html:Don&#39\;t be shy\, grab a club and try!!<br />\nGolf Guidance from our outstanding instructors that will develop and or refresh your skills as well as your short games\, drives\, fairway shots\, chipping and putting. How much more could one ask for? &nbsp\;Bring your own set of clubs or use ours.
LOCATION:Tianna Country Club
UID:e.11.8348
SEQUENCE:3
DTSTAMP:20260421T223918Z
URL:https://leechlake.mobileappview.com/events/details/tee-party-kickoff-tianna-country-club-07-19-2016-8348
END:VEVENT

END:VCALENDAR
