BEGIN:VCALENDAR
VERSION:2.0
PRODID:-//ChamberMaster//Event Calendar 2.0//EN
METHOD:PUBLISH
X-PUBLISHED-TTL:P3D
REFRESH-INTERVAL:P3D
CALSCALE:GREGORIAN
BEGIN:VEVENT
DTSTART:20161124T170000Z
DTEND:20161124T210000Z
X-MICROSOFT-CDO-ALLDAYEVENT:FALSE
SUMMARY:Thanksgiving at the Chase
DESCRIPTION:Join us for Thanksgiving
X-ALT-DESC;FMTTYPE=text/html:Join us for Thanksgiving
LOCATION:Chase on the Lake Walker\, MN
UID:e.11.9082
SEQUENCE:3
DTSTAMP:20260421T154541Z
URL:https://leechlake.mobileappview.com/events/details/thanksgiving-at-the-chase-9082
END:VEVENT

END:VCALENDAR
