BEGIN:VCALENDAR
VERSION:2.0
PRODID:-//ChamberMaster//Event Calendar 2.0//EN
METHOD:PUBLISH
X-PUBLISHED-TTL:P3D
REFRESH-INTERVAL:P3D
CALSCALE:GREGORIAN
BEGIN:VEVENT
DTSTART:20171123T160000Z
DTEND:20171123T190000Z
X-MICROSOFT-CDO-ALLDAYEVENT:FALSE
SUMMARY:Thanksgiving Day Dinner - Immanuel Lutheran Church
DESCRIPTION:Thanksgiving Dinner
X-ALT-DESC;FMTTYPE=text/html:Thanksgiving Dinner
LOCATION:Immanuel Lutheran Church
UID:e.11.11862
SEQUENCE:3
DTSTAMP:20260420T203344Z
URL:https://leechlake.mobileappview.com/events/details/thanksgiving-day-dinner-immanuel-lutheran-church-11862
END:VEVENT

END:VCALENDAR
